BEGIN:VCALENDAR
VERSION:2.0
METHOD:PUBLISH
PRODID:-//Accessible Web Design//My Calendar//http://www.joedolson.com//v2.5.17//EN';
BEGIN:VEVENT
UID:144-83
LOCATION:     
SUMMARY:Unbenannte Veranstaltung
DTSTAMP:20240918T000000
ORGANIZER;CN=Hütten:MAILTO:huettenchristopher@gmail.com
DTSTART:20240918T000000
DTEND:20240919T000000
CATEGORIES:Einladungen
URL;VALUE=URI:
DESCRIPTION;ENCODING=QUOTED-PRINTABLE:
END:VEVENT
END:VCALENDAR