BEGIN:VCALENDAR
VERSION:2.0
METHOD:PUBLISH
PRODID:-//Accessible Web Design//My Calendar//http://www.joedolson.com//v2.5.17//EN';
BEGIN:VEVENT
UID:142-81
LOCATION:Schützenhalle Neuastenberg Zum Zwistkopf 1  Winterberg NRW 59955
SUMMARY:Frühjahrsversammlung 2024
DTSTAMP:20240504T200000
ORGANIZER;CN=Hütten:MAILTO:huettenchristopher@gmail.com
DTSTART:20240504T200000
DTEND:20240504T220000
CATEGORIES:Einladungen
URL;VALUE=URI:
DESCRIPTION;ENCODING=QUOTED-PRINTABLE:Bekanntmachung:Am Samstag, den 4.5.2024 findet um 20:00 Uhr inder Schützenhalle unsere diesjährige Frühjahrsversammlung statt.Tagesordnung:1. Eröffnung, Begrüßung, Totengedenken2. Verlesung des Protokolls der Versammlung vom 11.11.20243. Musik- und Schankangelegenheiten4. Schützenfest und Termine 20245. Verschiedenes und AusspracheAlle Schützenbrüder und besonders auch unsere Jungschützen sindherzlich eingeladen.Der Vorstand
END:VEVENT
END:VCALENDAR