BEGIN:VCALENDAR
VERSION:2.0
METHOD:PUBLISH
PRODID:-//Accessible Web Design//My Calendar//http://www.joedolson.com//v2.5.17//EN';
BEGIN:VEVENT
UID:141-65
LOCATION:Schützenhalle Neuastenberg     
SUMMARY:Kartoffelbraten 2023
DTSTAMP:20230827T140000
ORGANIZER;CN=Hütten:MAILTO:huettenchristopher@gmail.com
DTSTART:20230827T140000
DTEND:20230827T230000
CATEGORIES:Einladungen
URL;VALUE=URI:
DESCRIPTION;ENCODING=QUOTED-PRINTABLE:Traditionelles Kartoffelbraten am Sonntag, den 27.08.2023 um 14.00 Uhran der Schützenhalle.Für kalte Getränke, Leckeres vom Grillund am Nachmittag Kartoffeln aus dem Buchenfeuer ist bestens gesorgt.Ebenfalls wird ein neuer Kinderschweinchenkönig bzw. -königin gekürt!Es lädt herzlich einDer Schützenverein Neuastenberg Einladung Kartoffelbraten 2024
END:VEVENT
END:VCALENDAR