BEGIN:VCALENDAR
VERSION:2.0
METHOD:PUBLISH
PRODID:-//Accessible Web Design//My Calendar//http://www.joedolson.com//v2.5.17//EN';
BEGIN:VEVENT
UID:131-77
LOCATION:Schützenhalle Neuastenberg     
SUMMARY:Einladen der Jubilare und Ehrenmitglieder
DTSTAMP:20230701T150000
ORGANIZER;CN=Hütten:MAILTO:huettenchristopher@gmail.com
DTSTART:20230701T150000
DTEND:20230701T234500
CATEGORIES:Schützenfest
URL;VALUE=URI:
DESCRIPTION;ENCODING=QUOTED-PRINTABLE:
END:VEVENT
END:VCALENDAR