BEGIN:VCALENDAR
VERSION:2.0
METHOD:PUBLISH
PRODID:-//Accessible Web Design//My Calendar//http://www.joedolson.com//v2.5.17//EN';
BEGIN:VEVENT
UID:125-71
LOCATION:Schützenhalle Neuastenberg     
SUMMARY:Volkstrauertag 2023
DTSTAMP:20231119T200000
ORGANIZER;CN=Hütten:MAILTO:huettenchristopher@gmail.com
DTSTART:20231119T200000
DTEND:20231119T230000
CATEGORIES:Schützenfest
URL;VALUE=URI:
DESCRIPTION;ENCODING=QUOTED-PRINTABLE:
END:VEVENT
END:VCALENDAR