BEGIN:VCALENDAR
VERSION:2.0
METHOD:PUBLISH
PRODID:-//Accessible Web Design//My Calendar//http://www.joedolson.com//v2.5.17//EN';
BEGIN:VEVENT
UID:145-82
LOCATION:Schützenhalle Neuastenberg Zum Zwistkopf 1  Winterberg NRW 59955
SUMMARY:Mitgliederversammlung
DTSTAMP:20241006T150000
ORGANIZER;CN=Hütten:MAILTO:huettenchristopher@gmail.com
DTSTART:20241006T150000
DTEND:20241006T200000
CATEGORIES:Einladungen
URL;VALUE=URI:
DESCRIPTION;ENCODING=QUOTED-PRINTABLE:Der Vorstandlädt zur ,,außerordentlichen Mitgliederversammlung" ein am 6.10.2024 um 15:00 Uhrin die SchützenhallenDer Vorstand
END:VEVENT
END:VCALENDAR