BEGIN:VCALENDAR
VERSION:2.0
METHOD:PUBLISH
PRODID:-//Accessible Web Design//My Calendar//http://www.joedolson.com//v2.5.17//EN';
BEGIN:VEVENT
UID:140-80
LOCATION:     
SUMMARY:Schützenfest in Girkhausen
DTSTAMP:20230813T000000
ORGANIZER;CN=Hütten:MAILTO:huettenchristopher@gmail.com
DTSTART:20230813T000000
DTEND:20230814T000000
CATEGORIES:Einladungen
URL;VALUE=URI:
DESCRIPTION;ENCODING=QUOTED-PRINTABLE:Teilnahmen am Festzug in Girkhausen. Am 13.08.2023 um 13:30 Uhr werden wir am Festumzug in Girkhausen teilnehmen.Abfahrtzeit wird noch bekannt geben.
END:VEVENT
END:VCALENDAR