BEGIN:VCALENDAR
VERSION:2.0
METHOD:PUBLISH
PRODID:-//Accessible Web Design//My Calendar//http://www.joedolson.com//v2.5.17//EN';
BEGIN:VEVENT
UID:128-74
LOCATION:Schützenhalle Neuastenberg     
SUMMARY:Schützenfest nachlese
DTSTAMP:20230715T200000
ORGANIZER;CN=Hütten:MAILTO:huettenchristopher@gmail.com
DTSTART:20230715T200000
DTEND:20230715T230000
CATEGORIES:Schützenfest
URL;VALUE=URI:
DESCRIPTION;ENCODING=QUOTED-PRINTABLE:
END:VEVENT
END:VCALENDAR