BEGIN:VCALENDAR
VERSION:2.0
METHOD:PUBLISH
PRODID:-//Accessible Web Design//My Calendar//http://www.joedolson.com//v2.5.17//EN';
BEGIN:VEVENT
UID:124-70
LOCATION:Schützenhalle Neuastenberg     
SUMMARY:Generalversammlung 2023
DTSTAMP:20231111T200000
ORGANIZER;CN=Hütten:MAILTO:huettenchristopher@gmail.com
DTSTART:20231111T200000
DTEND:20231111T230000
CATEGORIES:Einladungen
URL;VALUE=URI:
DESCRIPTION;ENCODING=QUOTED-PRINTABLE:
END:VEVENT
END:VCALENDAR