BEGIN:VCALENDAR
VERSION:2.0
METHOD:PUBLISH
PRODID:-//Accessible Web Design//My Calendar//http://www.joedolson.com//v2.5.17//EN';
BEGIN:VEVENT
UID:122-68
LOCATION:     
SUMMARY:Kreisjugend pokalschießen in Liesen
DTSTAMP:20231021T000000
ORGANIZER;CN=Hütten:MAILTO:huettenchristopher@gmail.com
DTSTART:20231021T000000
DTEND:20231022T000000
CATEGORIES:Schützenfest
URL;VALUE=URI:
DESCRIPTION;ENCODING=QUOTED-PRINTABLE:
END:VEVENT
END:VCALENDAR