BEGIN:VCALENDAR
VERSION:2.0
METHOD:PUBLISH
PRODID:-//Accessible Web Design//My Calendar//http://www.joedolson.com//v2.5.17//EN';
BEGIN:VEVENT
UID:117-53
LOCATION:Schützenhalle Neuastenberg Zum Zwistkopf 1  Winterberg NRW 59955
SUMMARY:Schützenfest 2023
DTSTAMP:20230708T093000
ORGANIZER;CN=Hütten:MAILTO:huettenchristopher@gmail.com
DTSTART:20230708T093000
DTEND:20230710T234500
CATEGORIES:Schützenfest
URL;VALUE=URI:
DESCRIPTION;ENCODING=QUOTED-PRINTABLE:
END:VEVENT
END:VCALENDAR